Workbook
Name Print_Area: 'ACUERDO 3ER. TRIMESTRE 2026'!$A:$O
Name Print_Area: 'AGOSTO 26'!$A$1:$O$590
Name Print_Area: 'JULIO 26'!$A$1:$O$589
Name Print_Area: 'SEPTIEMBRE 26'!$A$2:$O$589
Name Print_Titles: 'ACUERDO 3ER. TRIMESTRE 2026'!$6:$8
Name Print_Titles: 'AGOSTO 26'!$7:$8
Name Print_Titles: 'JULIO 26'!$7:$8
Name Print_Titles: 'SEPTIEMBRE 26'!$7:$8

Sheet ACUERDO 3ER. TRIMESTRE 2026
A6: I. Importe de las participaciones pagadas a los Municipios del Estado de Oaxaca correspondiente al TERCER TRIMESTRE JULIO - SEPTIEMBRE 2026, incluye el 2do. Ajuste Trimestral 2026 del Fondo de Fiscalización y Recaudación.
A8: CLAVE DE MUNICIPIO | B8: MUNICIPIO | C8: FONDO GENERAL DE PARTICIPACIONES | D8: FONDO DE FOMENTO MUNICIPAL | E8: FONDO DE IMPUESTOS ESPECIALES SOBRE PRODUCCION Y SERVICIOS | F8: FONDO DE FISCALIZACION Y RECAUDACIÓN | G8: FONDO DE COMPENSACION | H8: IMPUESTO SOBRE AUTOMÓVILES NUEVOS | I8: IMPUESTO A LAS VENTAS FINALES DE GASOLINAS Y DIESEL | J8: 9/11 FIEPS GASOLINA Y DIESEL (CORRESPONDIENTE A JUNIO, JULIO Y AGOSTO 2026) | K8: FONDO DE COMPENSACION DEL IMPUESTO SOBRE AUTOMOVILES NUEVOS ISAN | L8: ISR ARTICULO 126 | M8: ISR 3-B | N8: HIDROCARBUROS | O8: TOTAL
A9: 001 | B9: ABEJONES | C9: =+'JULIO 26'!C9+'AGOSTO 26'!C9+'SEPTIEMBRE 26'!C9 -> 418576.42 | D9: =+'JULIO 26'!D9+'AGOSTO 26'!D9+'SEPTIEMBRE 26'!D9 -> 159425.6 | E9: =+'JULIO 26'!E9+'AGOSTO 26'!E9+'SEPTIEMBRE 26'!E9 -> 6508.32 | F9: =+'JULIO 26'!F9+'AGOSTO 26'!F9+'SEPTIEMBRE 26'!F9 -> 22562.22 | G9: =+'JULIO 26'!G9+'AGOSTO 26'!G9+'SEPTIEMBRE 26'!G9 -> 6807.46 | H9: =+'JULIO 26'!H9+'AGOSTO 26'!H9+'SEPTIEMBRE 26'!H9 -> 2501.29 | I9: =+'JULIO 26'!I9+'AGOSTO 26'!I9+'SEPTIEMBRE 26'!I9 -> 4855.81 | J9: ='JULIO 26'!J9+'AGOSTO 26'!J9+'SEPTIEMBRE 26'!J9 -> 3.53 | K9: =+'JULIO 26'!K9+'AGOSTO 26'!K9+'SEPTIEMBRE 26'!K9 -> 1376.79 | L9: =+'JULIO 26'!L9+'AGOSTO 26'!L9+'SEPTIEMBRE 26'!L9 -> 382.05 | M9: =+'JULIO 26'!M9+'AGOSTO 26'!M9+'SEPTIEMBRE 26'!M9 -> 9418 | N9: =+'JULIO 26'!N9+'AGOSTO 26'!N9+'SEPTIEMBRE 26'!N9 -> 0 | O9: =SUM(C9:N9) -> 632417.49
A10: 002 | B10: ACATLAN DE PEREZ FIGUEROA | C10: =+'JULIO 26'!C10+'AGOSTO 26'!C10+'SEPTIEMBRE 26'!C10 -> 10615454 | D10: =+'JULIO 26'!D10+'AGOSTO 26'!D10+'SEPTIEMBRE 26'!D10 -> 5140589.3 | E10: =+'JULIO 26'!E10+'AGOSTO 26'!E10+'SEPTIEMBRE 26'!E10 -> 124322.82 | F10: =+'JULIO 26'!F10+'AGOSTO 26'!F10+'SEPTIEMBRE 26'!F10 -> 524283.13 | G10: =+'JULIO 26'!G10+'AGOSTO 26'!G10+'SEPTIEMBRE 26'!G10 -> 363717.31 | H10: =+'JULIO 26'!H10+'AGOSTO 26'!H10+'SEPTIEMBRE 26'!H10 -> 87468.07 | I10: =+'JULIO 26'!I10+'AGOSTO 26'!I10+'SEPTIEMBRE 26'!I10 -> 282524.71 | J10: ='JULIO 26'!J10+'AGOSTO 26'!J10+'SEPTIEMBRE 26'!J10 -> 236.77 | K10: =+'JULIO 26'!K10+'AGOSTO 26'!K10+'SEPTIEMBRE 26'!K10 -> 18050.5 | L10: =+'JULIO 26'!L10+'AGOSTO 26'!L10+'SEPTIEMBRE 26'!L10 -> 24487.91 | M10: =+'JULIO 26'!M10+'AGOSTO 26'!M10+'SEPTIEMBRE 26'!M10 -> 1075044 | N10: =+'JULIO 26'!N10+'AGOSTO 26'!N10+'SEPTIEMBRE 26'!N10 -> 126223.86 | O10: =SUM(C10:N10) -> 18382402
A11: 003 | B11: ASUNCION CACALOTEPEC | C11: =+'JULIO 26'!C11+'AGOSTO 26'!C11+'SEPTIEMBRE 26'!C11 -> 683499.88 | D11: =+'JULIO 26'!D11+'AGOSTO 26'!D11+'SEPTIEMBRE 26'!D11 -> 148697.6 | E11: =+'JULIO 26'!E11+'AGOSTO 26'!E11+'SEPTIEMBRE 26'!E11 -> 9186.41 | F11: =+'JULIO 26'!F11+'AGOSTO 26'!F11+'SEPTIEMBRE 26'!F11 -> 35210.64 | G11: =+'JULIO 26'!G11+'AGOSTO 26'!G11+'SEPTIEMBRE 26'!G11 -> 20880.03 | H11: =+'JULIO 26'!H11+'AGOSTO 26'!H11+'SEPTIEMBRE 26'!H11 -> 4978.6 | I11: =+'JULIO 26'!I11+'AGOSTO 26'!I11+'SEPTIEMBRE 26'!I11 -> 14794 | J11: ='JULIO 26'!J11+'AGOSTO 26'!J11+'SEPTIEMBRE 26'!J11 -> 12.65 | K11: =+'JULIO 26'!K11+'AGOSTO 26'!K11+'SEPTIEMBRE 26'!K11 -> 1628.95 | L11: =+'JULIO 26'!L11+'AGOSTO 26'!L11+'SEPTIEMBRE 26'!L11 -> 1172 | M11: =+'JULIO 26'!M11+'AGOSTO 26'!M11+'SEPTIEMBRE 26'!M11 -> 0 | N11: =+'JULIO 26'!N11+'AGOSTO 26'!N11+'SEPTIEMBRE 26'!N11 -> 0 | O11: =SUM(C11:N11) -> 920060.76
A12: 004 | B12: ASUNCION CUYOTEPEJI | C12: =+'JULIO 26'!C12+'AGOSTO 26'!C12+'SEPTIEMBRE 26'!C12 -> 398132.19 | D12: =+'JULIO 26'!D12+'AGOSTO 26'!D12+'SEPTIEMBRE 26'!D12 -> 189808.03 | E12: =+'JULIO 26'!E12+'AGOSTO 26'!E12+'SEPTIEMBRE 26'!E12 -> 5289.04 | F12: =+'JULIO 26'!F12+'AGOSTO 26'!F12+'SEPTIEMBRE 26'!F12 -> 20376.64 | G12: =+'JULIO 26'!G12+'AGOSTO 26'!G12+'SEPTIEMBRE 26'!G12 -> 8834.78 | H12: =+'JULIO 26'!H12+'AGOSTO 26'!H12+'SEPTIEMBRE 26'!H12 -> 2948.49 | I12: =+'JULIO 26'!I12+'AGOSTO 26'!I12+'SEPTIEMBRE 26'!I12 -> 7526.53 | J12: ='JULIO 26'!J12+'AGOSTO 26'!J12+'SEPTIEMBRE 26'!J12 -> 6.36 | K12: =+'JULIO 26'!K12+'AGOSTO 26'!K12+'SEPTIEMBRE 26'!K12 -> 999.14 | L12: =+'JULIO 26'!L12+'AGOSTO 26'!L12+'SEPTIEMBRE 26'!L12 -> 711.01 | M12: =+'JULIO 26'!M12+'AGOSTO 26'!M12+'SEPTIEMBRE 26'!M12 -> 0 | N12: =+'JULIO 26'!N12+'AGOSTO 26'!N12+'SEPTIEMBRE 26'!N12 -> 0 | O12: =SUM(C12:N12) -> 634632.21
A13: 005 | B13: ASUNCION IXTALTEPEC | C13: =+'JULIO 26'!C13+'AGOSTO 26'!C13+'SEPTIEMBRE 26'!C13 -> 5738604.7 | D13: =+'JULIO 26'!D13+'AGOSTO 26'!D13+'SEPTIEMBRE 26'!D13 -> 1301415.1 | E13: =+'JULIO 26'!E13+'AGOSTO 26'!E13+'SEPTIEMBRE 26'!E13 -> 65111.31 | F13: =+'JULIO 26'!F13+'AGOSTO 26'!F13+'SEPTIEMBRE 26'!F13 -> 278248.62 | G13: =+'JULIO 26'!G13+'AGOSTO 26'!G13+'SEPTIEMBRE 26'!G13 -> 120887.55 | H13: =+'JULIO 26'!H13+'AGOSTO 26'!H13+'SEPTIEMBRE 26'!H13 -> 46196.96 | I13: =+'JULIO 26'!I13+'AGOSTO 26'!I13+'SEPTIEMBRE 26'!I13 -> 119775.13 | J13: ='JULIO 26'!J13+'AGOSTO 26'!J13+'SEPTIEMBRE 26'!J13 -> 99.63 | K13: =+'JULIO 26'!K13+'AGOSTO 26'!K13+'SEPTIEMBRE 26'!K13 -> 9198.47 | L13: =+'JULIO 26'!L13+'AGOSTO 26'!L13+'SEPTIEMBRE 26'!L13 -> 12733.3 | M13: =+'JULIO 26'!M13+'AGOSTO 26'!M13+'SEPTIEMBRE 26'!M13 -> 0 | N13: =+'JULIO 26'!N13+'AGOSTO 26'!N13+'SEPTIEMBRE 26'!N13 -> 0 | O13: =SUM(C13:N13) -> 7692270.8
A14: 006 | B14: ASUNCION NOCHIXTLAN | C14: =+'JULIO 26'!C14+'AGOSTO 26'!C14+'SEPTIEMBRE 26'!C14 -> 7317454.4 | D14: =+'JULIO 26'!D14+'AGOSTO 26'!D14+'SEPTIEMBRE 26'!D14 -> 2661672 | E14: =+'JULIO 26'!E14+'AGOSTO 26'!E14+'SEPTIEMBRE 26'!E14 -> 76018.21 | F14: =+'JULIO 26'!F14+'AGOSTO 26'!F14+'SEPTIEMBRE 26'!F14 -> 347075.21 | G14: =+'JULIO 26'!G14+'AGOSTO 26'!G14+'SEPTIEMBRE 26'!G14 -> 163458.06 | H14: =+'JULIO 26'!H14+'AGOSTO 26'!H14+'SEPTIEMBRE 26'!H14 -> 63603.4 | I14: =+'JULIO 26'!I14+'AGOSTO 26'!I14+'SEPTIEMBRE 26'!I14 -> 171408.66 | J14: ='JULIO 26'!J14+'AGOSTO 26'!J14+'SEPTIEMBRE 26'!J14 -> 143.86 | K14: =+'JULIO 26'!K14+'AGOSTO 26'!K14+'SEPTIEMBRE 26'!K14 -> 9164.98 | L14: =+'JULIO 26'!L14+'AGOSTO 26'!L14+'SEPTIEMBRE 26'!L14 -> 19055.33 | M14: =+'JULIO 26'!M14+'AGOSTO 26'!M14+'SEPTIEMBRE 26'!M14 -> 265802 | N14: =+'JULIO 26'!N14+'AGOSTO 26'!N14+'SEPTIEMBRE 26'!N14 -> 0 | O14: =SUM(C14:N14) -> 11094856
A15: 007 | B15: ASUNCION OCOTLAN | C15: =+'JULIO 26'!C15+'AGOSTO 26'!C15+'SEPTIEMBRE 26'!C15 -> 835023.51 | D15: =+'JULIO 26'!D15+'AGOSTO 26'!D15+'SEPTIEMBRE 26'!D15 -> 253389.28 | E15: =+'JULIO 26'!E15+'AGOSTO 26'!E15+'SEPTIEMBRE 26'!E15 -> 11739.78 | F15: =+'JULIO 26'!F15+'AGOSTO 26'!F15+'SEPTIEMBRE 26'!F15 -> 43244.08 | G15: =+'JULIO 26'!G15+'AGOSTO 26'!G15+'SEPTIEMBRE 26'!G15 -> 20117.95 | H15: =+'JULIO 26'!H15+'AGOSTO 26'!H15+'SEPTIEMBRE 26'!H15 -> 5497.77 | I15: =+'JULIO 26'!I15+'AGOSTO 26'!I15+'SEPTIEMBRE 26'!I15 -> 13827.89 | J15: ='JULIO 26'!J15+'AGOSTO 26'!J15+'SEPTIEMBRE 26'!J15 -> 12.34 | K15: =+'JULIO 26'!K15+'AGOSTO 26'!K15+'SEPTIEMBRE 26'!K15 -> 2337.03 | L15: =+'JULIO 26'!L15+'AGOSTO 26'!L15+'SEPTIEMBRE 26'!L15 -> 1086.71 | M15: =+'JULIO 26'!M15+'AGOSTO 26'!M15+'SEPTIEMBRE 26'!M15 -> 0 | N15: =+'JULIO 26'!N15+'AGOSTO 26'!N15+'SEPTIEMBRE 26'!N15 -> 0 | O15: =SUM(C15:N15) -> 1186276.3
A16: 008 | B16: ASUNCION TLACOLULITA | C16: =+'JULIO 26'!C16+'AGOSTO 26'!C16+'SEPTIEMBRE 26'!C16 -> 415726.49 | D16: =+'JULIO 26'!D16+'AGOSTO 26'!D16+'SEPTIEMBRE 26'!D16 -> 170155.51 | E16: =+'JULIO 26'!E16+'AGOSTO 26'!E16+'SEPTIEMBRE 26'!E16 -> 5581.46 | F16: =+'JULIO 26'!F16+'AGOSTO 26'!F16+'SEPTIEMBRE 26'!F16 -> 21260.46 | G16: =+'JULIO 26'!G16+'AGOSTO 26'!G16+'SEPTIEMBRE 26'!G16 -> 5910.76 | H16: =+'JULIO 26'!H16+'AGOSTO 26'!H16+'SEPTIEMBRE 26'!H16 -> 2874.04 | I16: =+'JULIO 26'!I16+'AGOSTO 26'!I16+'SEPTIEMBRE 26'!I16 -> 5848.66 | J16: ='JULIO 26'!J16+'AGOSTO 26'!J16+'SEPTIEMBRE 26'!J16 -> 5.84 | K16: =+'JULIO 26'!K16+'AGOSTO 26'!K16+'SEPTIEMBRE 26'!K16 -> 992.59 | L16: =+'JULIO 26'!L16+'AGOSTO 26'!L16+'SEPTIEMBRE 26'!L16 -> 628.12 | M16: =+'JULIO 26'!M16+'AGOSTO 26'!M16+'SEPTIEMBRE 26'!M16 -> 0 | N16: =+'JULIO 26'!N16+'AGOSTO 26'!N16+'SEPTIEMBRE 26'!N16 -> 0 | O16: =SUM(C16:N16) -> 628983.93
A17: 009 | B17: AYOTZINTEPEC | C17: =+'JULIO 26'!C17+'AGOSTO 26'!C17+'SEPTIEMBRE 26'!C17 -> 1546311.4 | D17: =+'JULIO 26'!D17+'AGOSTO 26'!D17+'SEPTIEMBRE 26'!D17 -> 501068.62 | E17: =+'JULIO 26'!E17+'AGOSTO 26'!E17+'SEPTIEMBRE 26'!E17 -> 18159.67 | F17: =+'JULIO 26'!F17+'AGOSTO 26'!F17+'SEPTIEMBRE 26'!F17 -> 75264.26 | G17: =+'JULIO 26'!G17+'AGOSTO 26'!G17+'SEPTIEMBRE 26'!G17 -> 55403.96 | H17: =+'JULIO 26'!H17+'AGOSTO 26'!H17+'SEPTIEMBRE 26'!H17 -> 11939.88 | I17: =+'JULIO 26'!I17+'AGOSTO 26'!I17+'SEPTIEMBRE 26'!I17 -> 39588.66 | J17: ='JULIO 26'!J17+'AGOSTO 26'!J17+'SEPTIEMBRE 26'!J17 -> 32.44 | K17: =+'JULIO 26'!K17+'AGOSTO 26'!K17+'SEPTIEMBRE 26'!K17 -> 3129.47 | L17: =+'JULIO 26'!L17+'AGOSTO 26'!L17+'SEPTIEMBRE 26'!L17 -> 3111.99 | M17: =+'JULIO 26'!M17+'AGOSTO 26'!M17+'SEPTIEMBRE 26'!M17 -> 0 | N17: =+'JULIO 26'!N17+'AGOSTO 26'!N17+'SEPTIEMBRE 26'!N17 -> 0 | O17: =SUM(C17:N17) -> 2254010.4
A18: 010 | B18: EL BARRIO DE LA SOLEDAD | C18: =+'JULIO 26'!C18+'AGOSTO 26'!C18+'SEPTIEMBRE 26'!C18 -> 6876249.5 | D18: =+'JULIO 26'!D18+'AGOSTO 26'!D18+'SEPTIEMBRE 26'!D18 -> 1327913.5 | E18: =+'JULIO 26'!E18+'AGOSTO 26'!E18+'SEPTIEMBRE 26'!E18 -> 72959.78 | F18: =+'JULIO 26'!F18+'AGOSTO 26'!F18+'SEPTIEMBRE 26'!F18 -> 339392.03 | G18: =+'JULIO 26'!G18+'AGOSTO 26'!G18+'SEPTIEMBRE 26'!G18 -> 106526.38 | H18: =+'JULIO 26'!H18+'AGOSTO 26'!H18+'SEPTIEMBRE 26'!H18 -> 67606.71 | I18: =+'JULIO 26'!I18+'AGOSTO 26'!I18+'SEPTIEMBRE 26'!I18 -> 165800.98 | J18: ='JULIO 26'!J18+'AGOSTO 26'!J18+'SEPTIEMBRE 26'!J18 -> 138.09 | K18: =+'JULIO 26'!K18+'AGOSTO 26'!K18+'SEPTIEMBRE 26'!K18 -> 5676.22 | L18: =+'JULIO 26'!L18+'AGOSTO 26'!L18+'SEPTIEMBRE 26'!L18 -> 22257.33 | M18: =+'JULIO 26'!M18+'AGOSTO 26'!M18+'SEPTIEMBRE 26'!M18 -> 0 | N18: =+'JULIO 26'!N18+'AGOSTO 26'!N18+'SEPTIEMBRE 26'!N18 -> 0 | O18: =SUM(C18:N18) -> 8984520.5
A19: 011 | B19: CALIHUALA | C19: =+'JULIO 26'!C19+'AGOSTO 26'!C19+'SEPTIEMBRE 26'!C19 -> 434901.41 | D19: =+'JULIO 26'!D19+'AGOSTO 26'!D19+'SEPTIEMBRE 26'!D19 -> 192996.74 | E19: =+'JULIO 26'!E19+'AGOSTO 26'!E19+'SEPTIEMBRE 26'!E19 -> 6155.67 | F19: =+'JULIO 26'!F19+'AGOSTO 26'!F19+'SEPTIEMBRE 26'!F19 -> 22835.75 | G19: =+'JULIO 26'!G19+'AGOSTO 26'!G19+'SEPTIEMBRE 26'!G19 -> 11530.22 | H19: =+'JULIO 26'!H19+'AGOSTO 26'!H19+'SEPTIEMBRE 26'!H19 -> 3031.33 | I19: =+'JULIO 26'!I19+'AGOSTO 26'!I19+'SEPTIEMBRE 26'!I19 -> 8221.86 | J19: ='JULIO 26'!J19+'AGOSTO 26'!J19+'SEPTIEMBRE 26'!J19 -> 6.58 | K19: =+'JULIO 26'!K19+'AGOSTO 26'!K19+'SEPTIEMBRE 26'!K19 -> 1140.36 | L19: =+'JULIO 26'!L19+'AGOSTO 26'!L19+'SEPTIEMBRE 26'!L19 -> 659.66 | M19: =+'JULIO 26'!M19+'AGOSTO 26'!M19+'SEPTIEMBRE 26'!M19 -> 0 | N19: =+'JULIO 26'!N19+'AGOSTO 26'!N19+'SEPTIEMBRE 26'!N19 -> 0 | O19: =SUM(C19:N19) -> 681479.58
A20: 012 | B20: CANDELARIA LOXICHA | C20: =+'JULIO 26'!C20+'AGOSTO 26'!C20+'SEPTIEMBRE 26'!C20 -> 3062845.7 | D20: =+'JULIO 26'!D20+'AGOSTO 26'!D20+'SEPTIEMBRE 26'!D20 -> 283740.06 | E20: =+'JULIO 26'!E20+'AGOSTO 26'!E20+'SEPTIEMBRE 26'!E20 -> 35012.22 | F20: =+'JULIO 26'!F20+'AGOSTO 26'!F20+'SEPTIEMBRE 26'!F20 -> 152612.71 | G20: =+'JULIO 26'!G20+'AGOSTO 26'!G20+'SEPTIEMBRE 26'!G20 -> 93689.58 | H20: =+'JULIO 26'!H20+'AGOSTO 26'!H20+'SEPTIEMBRE 26'!H20 -> 27485.21 | I20: =+'JULIO 26'!I20+'AGOSTO 26'!I20+'SEPTIEMBRE 26'!I20 -> 82396.96 | J20: ='JULIO 26'!J20+'AGOSTO 26'!J20+'SEPTIEMBRE 26'!J20 -> 69.89 | K20: =+'JULIO 26'!K20+'AGOSTO 26'!K20+'SEPTIEMBRE 26'!K20 -> 4062.09 | L20: =+'JULIO 26'!L20+'AGOSTO 26'!L20+'SEPTIEMBRE 26'!L20 -> 8355.31 | M20: =+'JULIO 26'!M20+'AGOSTO 26'!M20+'SEPTIEMBRE 26'!M20 -> 0 | N20: =+'JULIO 26'!N20+'AGOSTO 26'!N20+'SEPTIEMBRE 26'!N20 -> 0 | O20: =SUM(C20:N20) -> 3750269.7
... A578: 570 | B578: ZIMATLAN DE ALVAREZ | C578: =+'JULIO 26'!C578+'AGOSTO 26'!C578+'SEPTIEMBRE 26'!C578 -> 6627240.8 | D578: =+'JULIO 26'!D578+'AGOSTO 26'!D578+'SEPTIEMBRE 26'!D578 -> 2136101.6 | E578: =+'JULIO 26'!E578+'AGOSTO 26'!E578+'SEPTIEMBRE 26'!E578 -> 71581.07 | F578: =+'JULIO 26'!F578+'AGOSTO 26'!F578+'SEPTIEMBRE 26'!F578 -> 319388.55 | G578: =+'JULIO 26'!G578+'AGOSTO 26'!G578+'SEPTIEMBRE 26'!G578 -> 176750.93 | H578: =+'JULIO 26'!H578+'AGOSTO 26'!H578+'SEPTIEMBRE 26'!H578 -> 58245.34 | I578: =+'JULIO 26'!I578+'AGOSTO 26'!I578+'SEPTIEMBRE 26'!I578 -> 168196.57 | J578: ='JULIO 26'!J578+'AGOSTO 26'!J578+'SEPTIEMBRE 26'!J578 -> 140.85 | K578: =+'JULIO 26'!K578+'AGOSTO 26'!K578+'SEPTIEMBRE 26'!K578 -> 9281.7 | L578: =+'JULIO 26'!L578+'AGOSTO 26'!L578+'SEPTIEMBRE 26'!L578 -> 17481.01 | M578: =+'JULIO 26'!M578+'AGOSTO 26'!M578+'SEPTIEMBRE 26'!M578 -> 739609 | N578: =+'JULIO 26'!N578+'AGOSTO 26'!N578+'SEPTIEMBRE 26'!N578 -> 0 | O578: =SUM(C578:N578) -> 10324017
A579: TOTAL | C579: =SUM(C9:C578) -> 1.5214396e+09 | D579: =SUM(D9:D578) -> 4.7686281e+08 | E579: =SUM(E9:E578) -> 17225422 | F579: =SUM(F9:F578) -> 74285049 | G579: =SUM(G9:G578) -> 33315679 | H579: =SUM(H9:H578) -> 12884796 | I579: =SUM(I9:I578) -> 34080898 | J579: =SUM(J9:J578) -> 28578.2 | ... N579: =SUM(N9:N578) -> 4153057.6 | O579: =SUM(C579:N579) -> 2.2793134e+09
A580: Nota: La sumatoria de las cantidades en cada uno de los fondos pueden no coincidir por efectos del redondeo.
A583: San Bartolo Coyotepec, Oaxaca, 06 de octubre de 2026.
A587: L.C.P. ROSA MARÍA SAAVEDRA GUZMÁN
A588: TESORERA

Sheet JULIO 26
A7: I. Importe de las Participaciones pagadas a los Municipios del Estado de Oaxaca correspondiente al mes de JULIO de 2026, incluye el 2do. Ajuste Trimestral 2026 del Fondo de Fiscalización y Recaudación.
A8: CLAVE DE MUNICIPIO | B8: MUNICIPIO | C8: FONDO GENERAL DE PARTICIPACIONES | D8: FONDO DE FOMENTO MUNICIPAL | E8: FONDO DE IMPUESTOS ESPECIALES SOBRE PRODUCCION Y SERVICIOS | F8: FONDO DE FISCALIZACION Y RECAUDACIÓN | G8: FONDO DE COMPENSACION | H8: IMPUESTO SOBRE AUTOMÓVILES NUEVOS | I8: IMPUESTO A LAS VENTAS FINALES DE GASOLINAS Y DIESEL | J8: 9/11 FIEPS GASOLINA Y DIESEL (CORRESPONDIENTE A JUNIO 2026) | K8: FONDO DE COMPENSACION DEL IMPUESTO SOBRE AUTOMOVILES NUEVOS ISAN | L8: ISR ARTICULO 126 | M8: ISR 3- B | N8: HIDROCARBUROS | O8: TOTAL
A9: 001 | B9: ABEJONES | C9: 134965.42 | D9: 53141.6 | E9: 2141.32 | F9: 10532.22 | G9: 2092.46 | H9: 823.29 | I9: 1553.81 | J9: 1.53 | K9: 458.79 | L9: 167.05 | M9: 9418 | N9: 0 | O9: =SUM(C9:N9) -> 215295.49
A10: 002 | B10: ACATLAN DE PEREZ FIGUEROA | C10: 3245913.9 | D10: 1843777.3 | E10: 39651.82 | F10: 367971.13 | G10: 111800.31 | H10: 28487.07 | I10: 90410.71 | J10: 88.77 | K10: 6016.5 | L10: 10717.91 | M10: 659382 | N10: 42148.85 | O10: =SUM(C10:N10) -> 6446366.3
A11: 003 | B11: ASUNCION CACALOTEPEC | C11: 213829.88 | D11: 49565.6 | E11: 2976.41 | F11: 20984.64 | G11: 6418.03 | H11: 1627.6 | I11: 4734 | J11: 4.65 | K11: 542.95 | L11: 513 | M11: 0 | N11: 0 | O11: =SUM(C11:N11) -> 301196.76
A12: 004 | B12: ASUNCION CUYOTEPEJI | C12: 124221.19 | D12: 66360.03 | E12: 1711.04 | F12: 12398.64 | G12: 2715.78 | H12: 963.49 | I12: 2408.53 | J12: 2.36 | K12: 333.14 | L12: 311.01 | M12: 0 | N12: 0 | O12: =SUM(C12:N12) -> 211425.21
A13: 005 | B13: ASUNCION IXTALTEPEC | C13: 1760731.7 | D13: 449601.14 | E13: 20773.31 | F13: 193218.62 | G13: 37158.55 | H13: 15050.96 | I13: 38329.13 | J13: 37.63 | K13: 3066.47 | L13: 5573.3 | M13: 0 | N13: 0 | O13: =SUM(C13:N13) -> 2523540.8
A14: 006 | B14: ASUNCION NOCHIXTLAN | C14: 2211482.4 | D14: 940545.01 | E14: 23947.21 | F14: 266041.21 | G14: 50244.06 | H14: 20680.4 | I14: 54852.66 | J14: 53.86 | K14: 3054.98 | L14: 8340.33 | M14: 137184 | N14: 0 | O14: =SUM(C14:N14) -> 3716426.1
A15: 007 | B15: ASUNCION OCOTLAN | C15: 265355.51 | D15: 84463.28 | E15: 3833.78 | F15: 22990.08 | G15: 6183.95 | H15: 1802.77 | I15: 4424.89 | J15: 4.34 | K15: 779.03 | L15: 475.71 | M15: 0 | N15: 0 | O15: =SUM(C15:N15) -> 390313.34
A16: 008 | B16: ASUNCION TLACOLULITA | C16: 131065.49 | D16: 57413.51 | E16: 1814.46 | F16: 12046.46 | G16: 1816.76 | H16: 941.04 | I16: 1871.66 | J16: 1.84 | K16: 330.59 | L16: 275.12 | M16: 0 | N16: 0 | O16: =SUM(C16:N16) -> 207576.93
A17: 009 | B17: AYOTZINTEPEC | C17: 478258.43 | D17: 167022.62 | E17: 5825.67 | F17: 49640.26 | G17: 17029.96 | H17: 3894.88 | I17: 12668.66 | J17: 12.44 | K17: 1043.47 | L17: 1361.99 | M17: 0 | N17: 0 | O17: =SUM(C17:N17) -> 736758.38
A18: 010 | B18: EL BARRIO DE LA SOLEDAD | C18: 2026170.5 | D18: 471138.52 | E18: 22693.78 | F18: 288736.03 | G18: 32744.38 | H18: 21927.71 | I18: 53057.98 | J18: 52.09 | K18: 1892.22 | L18: 9741.33 | M18: 0 | N18: 0 | O18: =SUM(C18:N18) -> 2928154.5
A19: 011 | B19: CALIHUALA | C19: 137087.41 | D19: 67297.74 | E19: 2003.67 | F19: 12815.75 | G19: 3544.22 | H19: 992.33 | I19: 2630.86 | J19: 2.58 | K19: 380.36 | L19: 288.66 | M19: 0 | N19: 0 | O19: =SUM(C19:N19) -> 227043.58
A20: 012 | B20: CANDELARIA LOXICHA | C20: 921113.69 | D20: 94580.06 | E20: 11060.22 | F20: 116800.71 | G20: 28798.58 | H20: 8933.21 | I20: 26367.96 | J20: 25.89 | K20: 1354.09 | L20: 3657.31 | M20: 0 | N20: 0 | O20: =SUM(C20:N20) -> 1212691.7
... A578: 570 | B578: ZIMATLAN DE ALVAREZ | C578: 2000227.8 | D578: 758765.59 | E578: 22583.07 | F578: 244386.55 | G578: 54329.93 | H578: 18937.34 | I578: 53824.57 | J578: 52.85 | K578: 3093.7 | L578: 7651.01 | M578: 243546 | N578: 0 | O578: =SUM(C578:N578) -> 3407398.4
A579: TOTAL | C579: =SUM(C9:C578) -> 4.6233755e+08 | D579: =SUM(D9:D578) -> 1.6666682e+08 | E579: =SUM(E9:E578) -> 5467781 | F579: =SUM(F9:F578) -> 54337389 | G579: =SUM(G9:G578) -> 10240649 | H579: =SUM(H9:H578) -> 4192465 | I579: =SUM(I9:I578) -> 10906227 | J579: =SUM(J9:J578) -> 10708.2 | ... O579: =SUM(O9:O578) -> 7.6317486e+08
A580: Nota: La sumatoria de las cantidades en cada uno de los fondos pueden no coincidir por efectos del redondeo.
A583: San Bartolo Coyotepec, Oaxaca, 06 de octubre de 2026.
A587: L.C.P. ROSA MARÍA SAAVEDRA GUZMÁN
A588: TESORERA

Sheet AGOSTO 26
A7: I. Importe de las Participaciones pagadas a los Municipios del Estado de Oaxaca correspondiente al mes de AGOSTO de 2026.
A8: CLAVE DE MUNICIPIO | B8: MUNICIPIO | C8: FONDO GENERAL DE PARTICIPACIONES | D8: FONDO DE FOMENTO MUNICIPAL | E8: FONDO DE IMPUESTOS ESPECIALES SOBRE PRODUCCION Y SERVICIOS | F8: FONDO DE FISCALIZACION Y RECAUDACIÓN | G8: FONDO DE COMPENSACION | H8: IMPUESTO SOBRE AUTOMÓVILES NUEVOS | I8: IMPUESTO A LAS VENTAS FINALES DE GASOLINAS Y DIESEL | J8: 9/11 FIEPS GASOLINA Y DIESEL (CORRESPONDIENTE A JULIO 2026) | K8: FONDO DE COMPENSACION DEL IMPUESTO SOBRE AUTOMOVILES NUEVOS ISAN | L8: ISR ARTICULO 126 | M8: ISR 3-B | N8: HIDROCARBUROS | O8: TOTAL
A9: 001 | B9: ABEJONES | C9: 144476 | D9: 53142 | E9: 2183 | F9: 6015 | G9: 2286 | H9: 775 | I9: 1649 | J9: 1 | K9: 459 | L9: 115 | M9: 0 | N9: 0 | O9: =SUM(C9:N9) -> 211101
A10: 002 | B10: ACATLAN DE PEREZ FIGUEROA | C10: 3856095 | D10: 1664705 | E10: 42312 | F10: 78156 | G10: 122145 | H10: 25379 | I10: 95942 | J10: 74 | K10: 6017 | L10: 7371 | M10: 0 | N10: 41864.2 | O10: =SUM(C10:N10) -> 5940060.2
A11: 003 | B11: ASUNCION CACALOTEPEC | C11: 243035 | D11: 49566 | E11: 3104 | F11: 7113 | G11: 7012 | H11: 1479 | I11: 5024 | J11: 4 | K11: 543 | L11: 353 | M11: 0 | N11: 0 | O11: =SUM(C11:N11) -> 317233
A12: 004 | B12: ASUNCION CUYOTEPEJI | C12: 141927 | D12: 62111 | E12: 1788 | F12: 3989 | G12: 2967 | H12: 873 | I12: 2556 | J12: 2 | K12: 333 | L12: 214 | M12: 0 | N12: 0 | O12: =SUM(C12:N12) -> 216760
A13: 005 | B13: ASUNCION IXTALTEPEC | C13: 2078025 | D13: 427884 | E13: 22157 | F13: 42515 | G13: 40597 | H13: 13435 | I13: 40674 | J13: 31 | K13: 3066 | L13: 3833 | M13: 0 | N13: 0 | O13: =SUM(C13:N13) -> 2672217
A14: 006 | B14: ASUNCION NOCHIXTLAN | C14: 2686305 | D14: 867236 | E14: 26017 | F14: 40517 | G14: 54893 | H14: 18262 | I14: 58208 | J14: 45 | K14: 3055 | L14: 5736 | M14: 0 | N14: 0 | O14: =SUM(C14:N14) -> 3760274
A15: 007 | B15: ASUNCION OCOTLAN | C15: 292438 | D15: 84463 | E15: 3952 | F15: 10127 | G15: 6756 | H15: 1665 | I15: 4696 | J15: 4 | K15: 779 | L15: 327 | M15: 0 | N15: 0 | O15: =SUM(C15:N15) -> 405207
A16: 008 | B16: ASUNCION TLACOLULITA | C16: 146728 | D16: 56458 | E16: 1883 | F16: 4607 | G16: 1985 | H16: 861 | I16: 1986 | J16: 2 | K16: 331 | L16: 189 | M16: 0 | N16: 0 | O16: =SUM(C16:N16) -> 215030
A17: 009 | B17: AYOTZINTEPEC | C17: 555798 | D17: 167023 | E17: 6164 | F17: 12812 | G17: 18606 | H17: 3500 | I17: 13444 | J17: 10 | K17: 1043 | L17: 937 | M17: 0 | N17: 0 | O17: =SUM(C17:N17) -> 779337
A18: 010 | B18: EL BARRIO DE LA SOLEDAD | C18: 2580754 | D18: 431954 | E18: 25112 | F18: 25328 | G18: 35774 | H18: 19103 | I18: 56304 | J18: 43 | K18: 1892 | L18: 6700 | M18: 0 | N18: 0 | O18: =SUM(C18:N18) -> 3182964
A19: 011 | B19: CALIHUALA | C19: 153521 | D19: 63221 | E19: 2075 | F19: 5010 | G19: 3872 | H19: 909 | I19: 2792 | J19: 2 | K19: 380 | L19: 199 | M19: 0 | N19: 0 | O19: =SUM(C19:N19) -> 231981
A20: 012 | B20: CANDELARIA LOXICHA | C20: 1129328 | D20: 94580 | E20: 11968 | F20: 17906 | G20: 31463 | H20: 7873 | I20: 27981 | J20: 22 | K20: 1354 | L20: 2515 | M20: 0 | N20: 0 | O20: =SUM(C20:N20) -> 1324990
... A578: 570 | B578: ZIMATLAN DE ALVAREZ | C578: 2435807 | D578: 694516 | E578: 24482 | F578: 37501 | G578: 59357 | H578: 16719 | I578: 57117 | J578: 44 | K578: 3094 | L578: 5262 | M578: 236089 | N578: 0 | O578: =SUM(C578:N578) -> 3569988
A579: TOTAL | C579: =SUM(C9:C578) -> 555790472 | D579: =SUM(D9:D578) -> 156114729 | E579: =SUM(E9:E578) -> 5875245 | F579: =SUM(F9:F578) -> 9973830 | G579: =SUM(G9:G578) -> 11188181 | H579: =SUM(H9:H578) -> 3716511 | I579: =SUM(I9:I578) -> 11573405 | J579: =SUM(J9:J578) -> 8935 | ... N579: =SUM(N9:N578) -> 1377429.4 | O579: =SUM(C579:N579) -> 7.8480385e+08
A580: Nota: La sumatoria de las cantidades en cada uno de los fondos pueden no coincidir por efectos del redondeo.
A584: San Bartolo Coyotepec, Oaxaca, 06 de octubre de 2026.
A588: L.C.P. ROSA MARÍA SAAVEDRA GUZMÁN
A589: TESORERA

Sheet SEPTIEMBRE 26
A7: I. Importe de las Participaciones pagadas a los Municipios del Estado de Oaxaca correspondiente al mes de SEPTIEMBRE de 2026.
A8: CLAVE DE MUNICIPIO | B8: MUNICIPIO | C8: FONDO GENERAL DE PARTICIPACIONES | D8: FONDO DE FOMENTO MUNICIPAL | E8: FONDO DE IMPUESTOS ESPECIALES SOBRE PRODUCCION Y SERVICIOS | F8: FONDO DE FISCALIZACION Y RECAUDACIÓN | G8: FONDO DE COMPENSACION | H8: IMPUESTO SOBRE AUTOMÓVILES NUEVOS | I8: IMPUESTO A LAS VENTAS FINALES DE GASOLINAS Y DIESEL | J8: 9/11 FIEPS GASOLINA Y DIESEL (CORRESPONDIENTE A AGOSTO 2026) | K8: FONDO DE COMPENSACION DEL IMPUESTO SOBRE AUTOMOVILES NUEVOS ISAN | L8: ISR ARTICULO 126 | M8: ISR 3-B | N8: HIDROCARBUROS | O8: TOTAL
A9: 001 | B9: ABEJONES | C9: 139135 | D9: 53142 | E9: 2184 | F9: 6015 | G9: 2429 | H9: 903 | I9: 1653 | J9: 1 | K9: 459 | L9: 100 | M9: 0 | N9: 0 | O9: =SUM(C9:N9) -> 206021
A10: 002 | B10: ACATLAN DE PEREZ FIGUEROA | C10: 3513445 | D10: 1632107 | E10: 42359 | F10: 78156 | G10: 129772 | H10: 33602 | I10: 96172 | J10: 74 | K10: 6017 | L10: 6399 | M10: 415662 | N10: 42210.81 | O10: =SUM(C10:N10) -> 5995975.8
A11: 003 | B11: ASUNCION CACALOTEPEC | C11: 226635 | D11: 49566 | E11: 3106 | F11: 7113 | G11: 7450 | H11: 1872 | I11: 5036 | J11: 4 | K11: 543 | L11: 306 | M11: 0 | N11: 0 | O11: =SUM(C11:N11) -> 301631
A12: 004 | B12: ASUNCION CUYOTEPEJI | C12: 131984 | D12: 61337 | E12: 1790 | F12: 3989 | G12: 3152 | H12: 1112 | I12: 2562 | J12: 2 | K12: 333 | L12: 186 | M12: 0 | N12: 0 | O12: =SUM(C12:N12) -> 206447
A13: 005 | B13: ASUNCION IXTALTEPEC | C13: 1899848 | D13: 423930 | E13: 22181 | F13: 42515 | G13: 43132 | H13: 17711 | I13: 40772 | J13: 31 | K13: 3066 | L13: 3327 | M13: 0 | N13: 0 | O13: =SUM(C13:N13) -> 2496513
A14: 006 | B14: ASUNCION NOCHIXTLAN | C14: 2419667 | D14: 853891 | E14: 26054 | F14: 40517 | G14: 58321 | H14: 24661 | I14: 58348 | J14: 45 | K14: 3055 | L14: 4979 | M14: 128618 | N14: 0 | O14: =SUM(C14:N14) -> 3618156
A15: 007 | B15: ASUNCION OCOTLAN | C15: 277230 | D15: 84463 | E15: 3954 | F15: 10127 | G15: 7178 | H15: 2030 | I15: 4707 | J15: 4 | K15: 779 | L15: 284 | M15: 0 | N15: 0 | O15: =SUM(C15:N15) -> 390756
A16: 008 | B16: ASUNCION TLACOLULITA | C16: 137933 | D16: 56284 | E16: 1884 | F16: 4607 | G16: 2109 | H16: 1072 | I16: 1991 | J16: 2 | K16: 331 | L16: 164 | M16: 0 | N16: 0 | O16: =SUM(C16:N16) -> 206377
A17: 009 | B17: AYOTZINTEPEC | C17: 512255 | D17: 167023 | E17: 6170 | F17: 12812 | G17: 19768 | H17: 4545 | I17: 13476 | J17: 10 | K17: 1043 | L17: 813 | M17: 0 | N17: 0 | O17: =SUM(C17:N17) -> 737915
A18: 010 | B18: EL BARRIO DE LA SOLEDAD | C18: 2269325 | D18: 424821 | E18: 25154 | F18: 25328 | G18: 38008 | H18: 26576 | I18: 56439 | J18: 43 | K18: 1892 | L18: 5816 | M18: 0 | N18: 0 | O18: =SUM(C18:N18) -> 2873402
A19: 011 | B19: CALIHUALA | C19: 144293 | D19: 62478 | E19: 2077 | F19: 5010 | G19: 4114 | H19: 1130 | I19: 2799 | J19: 2 | K19: 380 | L19: 172 | M19: 0 | N19: 0 | O19: =SUM(C19:N19) -> 222455
A20: 012 | B20: CANDELARIA LOXICHA | C20: 1012404 | D20: 94580 | E20: 11984 | F20: 17906 | G20: 33428 | H20: 10679 | I20: 28048 | J20: 22 | K20: 1354 | L20: 2183 | M20: 0 | N20: 0 | O20: =SUM(C20:N20) -> 1212588
... A578: 570 | B578: ZIMATLAN DE ALVAREZ | C578: 2191206 | D578: 682820 | E578: 24516 | F578: 37501 | G578: 63064 | H578: 22589 | I578: 57255 | J578: 44 | K578: 3094 | L578: 4568 | M578: 259974 | N578: 0 | O578: =SUM(C578:N578) -> 3346631
A579: TOTAL | C579: =SUM(C9:C578) -> 503311615 | D579: =SUM(D9:D578) -> 154081256 | E579: =SUM(E9:E578) -> 5882396 | F579: =SUM(F9:F578) -> 9973830 | G579: =SUM(G9:G578) -> 11886849 | H579: =SUM(H9:H578) -> 4975820 | I579: =SUM(I9:I578) -> 11601266 | J579: =SUM(J9:J578) -> 8935 | ... N579: =SUM(N9:N578) -> 1388833.4 | O579: =SUM(C579:N579) -> 7.313347e+08
A580: Nota: La sumatoria de las cantidades en cada uno de los fondos pueden no coincidir por efectos del redondeo
A584: San Bartolo Coyotepec, Oaxaca, 06 de octubre de 2026.
A587: L.C.P. ROSA MARÍA SAAVEDRA GUZMÁN
A588: TESORERA
